BEGIN:VCALENDAR
PRODID:NingEventWidget-v1
VERSION:2.0
METHOD:PUBLISH
BEGIN:VTIMEZONE
TZID:Europe/Warsaw
X-LIC-LOCATION:Europe/Warsaw
BEGIN:DAYLIGHT
TZOFFSETFROM:+0100
TZOFFSETTO:+0200
TZNAME:CEST
DTSTART:19700329T020000
RRULE:FREQ=YEARLY;BYMONTH=3;BYDAY=-1SU
END:DAYLIGHT
BEGIN:STANDARD
TZOFFSETFROM:+0200
TZOFFSETTO:+0100
TZNAME:CET
DTSTART:19701025T030000
RRULE:FREQ=YEARLY;BYMONTH=10;BYDAY=-1SU
END:STANDARD
END:VTIMEZONE
BEGIN:VEVENT
UID:4104926:Event:95086
DTSTAMP:20130111T110540Z
SUMMARY:2013 South American Youth Championship
DESCRIPTION:The South American Youth Championship, also known as U-20 
 South American Championship and Campeonato Sudamericano Sub-20 \"Juven
 tud de América\" (English: \"America's Youth\") is a South American f
 ootball tournament organized by the CONMEBOL (CONfederación SudaMEric
 ana de FútBOL), for South American national teams of men under the ag
 e of 20. The competition takes place every 2 years and the first one w
 as hosted by Venezuela in 1954. Current reigning champions Brazil have
  most titles (11) and are followed by Uruguay (7) and Argentina (4).\n
 \nFor more information visit http://unitedfootballfans.com/events/2013
 -south-american-youth-championship
DTSTART;TZID=Europe/Warsaw:20130109T000000
DTEND;TZID=Europe/Warsaw:20130203T235900
CATEGORIES:international, football, tournament
LOCATION:Argentina
WEBSITE:http://en.wikipedia.org/wiki/2013_South_American_Youth_Champio
 nship
URL:http://en.wikipedia.org/wiki/2013_South_American_Youth_Championshi
 p
CONTACT:
ORGANIZER:CONMEBOL
ATTACH;FMTTYPE="image/jpeg":http://api.ning.com:80/files/KQ1APV2-qCovg
 GDmCKMoMj0GiyKPvk2LWBUfvV9BWzepw0YkhPGsXHZWTMLGGLwPo1RCrVSjJIYEeflWXHv
 FpYD9L7IdTPrF/WowWindows8.com_2013_calendar_mousepad_printable.jpg
ATTENDEE;ROLE=REQ-PARTICIPANT;PARTSTAT=ACCEPTED;RSVP=TRUE;CN="Pawel Di
 mow":http://unitedfootballfans.com/profile/paweldimow
END:VEVENT
END:VCALENDAR
