BEGIN:VCALENDAR
PRODID:NingEventWidget-v1
VERSION:2.0
METHOD:PUBLISH
BEGIN:VTIMEZONE
TZID:Europe/Warsaw
X-LIC-LOCATION:Europe/Warsaw
BEGIN:DAYLIGHT
TZOFFSETFROM:+0100
TZOFFSETTO:+0200
TZNAME:CEST
DTSTART:19700329T020000
RRULE:FREQ=YEARLY;BYMONTH=3;BYDAY=-1SU
END:DAYLIGHT
BEGIN:STANDARD
TZOFFSETFROM:+0200
TZOFFSETTO:+0100
TZNAME:CET
DTSTART:19701025T030000
RRULE:FREQ=YEARLY;BYMONTH=10;BYDAY=-1SU
END:STANDARD
END:VTIMEZONE
BEGIN:VEVENT
UID:4104926:Event:94995
DTSTAMP:20130515T062145Z
SUMMARY:2013 UEFA European Under-17 Championship
DESCRIPTION:Cradle of the stars UEFA launched an Under-16 Championship
  in 1980 and it became an U17 event two decades later.\n\nFor more inf
 ormation visit http://unitedfootballfans.com/events/2013-uefa-european
 -under-17-championship
DTSTART;TZID=Europe/Warsaw:20130505T000000
DTEND;TZID=Europe/Warsaw:20130517T235900
CATEGORIES:international, football, tournament
LOCATION:Slovakia
WEBSITE:http://www.uefa.com/under17/index.html
URL:http://www.uefa.com/under17/index.html
CONTACT:
ORGANIZER:UEFA
ATTACH;FMTTYPE="image/jpeg":http://api.ning.com:80/files/POf-clSKoV0XE
 FadR8e3uIKY4wAyF2KG3kLgGXL*uWeAsks5PtP1sHwgKGqmn9JUl6jJTvsEiIOr96ebIUf
 1mmsA6TsvQf8y/WowWindows8.com_2013_calendar_mousepad_printable.jpg
ATTENDEE;ROLE=REQ-PARTICIPANT;PARTSTAT=ACCEPTED;RSVP=TRUE;CN="Pawel Di
 mow":http://unitedfootballfans.com/profile/paweldimow
END:VEVENT
END:VCALENDAR
